BEGIN:VCALENDAR
VERSION:2.0
PRODID:-//Třeboradice - ECPv5.11.0//NONSGML v1.0//EN
CALSCALE:GREGORIAN
METHOD:PUBLISH
X-WR-CALNAME:Třeboradice
X-ORIGINAL-URL:https://mscakovice2.cz/treboradice
X-WR-CALDESC:Akce na Třeboradice
BEGIN:VTIMEZONE
TZID:Europe/Prague
BEGIN:DAYLIGHT
TZOFFSETFROM:+0100
TZOFFSETTO:+0200
TZNAME:CEST
DTSTART:20240331T010000
END:DAYLIGHT
BEGIN:STANDARD
TZOFFSETFROM:+0200
TZOFFSETTO:+0100
TZNAME:CET
DTSTART:20241027T010000
END:STANDARD
END:VTIMEZONE
BEGIN:VEVENT
DTSTART;TZID=Europe/Prague:20241002T163000
DTEND;TZID=Europe/Prague:20241002T183000
DTSTAMP:20260425T200540
CREATED:20240829T113351Z
LAST-MODIFIED:20240829T113351Z
UID:2190-1727886600-1727893800@mscakovice2.cz
SUMMARY:Zahradní slavnost- stavba pece
DESCRIPTION:Ve středu dne 2\,9\, od 16:30 hodin srdečně zveme všechny děti a rodiče na ZAHRADNÍ SLAVNOST. \nBližší informace budou v aplikaci LYFLE.
URL:https://mscakovice2.cz/treboradice/kalendar/zahradni-slavnost-stavba-pece/
CATEGORIES:kalendar
END:VEVENT
END:VCALENDAR