BEGIN:VCALENDAR
VERSION:2.0
PRODID:-//Třeboradice - ECPv5.11.0//NONSGML v1.0//EN
CALSCALE:GREGORIAN
METHOD:PUBLISH
X-WR-CALNAME:Třeboradice
X-ORIGINAL-URL:https://mscakovice2.cz/treboradice
X-WR-CALDESC:Akce na Třeboradice
BEGIN:VTIMEZONE
TZID:Europe/Prague
BEGIN:DAYLIGHT
TZOFFSETFROM:+0100
TZOFFSETTO:+0200
TZNAME:CEST
DTSTART:20240331T010000
END:DAYLIGHT
BEGIN:STANDARD
TZOFFSETFROM:+0200
TZOFFSETTO:+0100
TZNAME:CET
DTSTART:20241027T010000
END:STANDARD
END:VTIMEZONE
BEGIN:VEVENT
DTSTART;TZID=Europe/Prague:20241127T160000
DTEND;TZID=Europe/Prague:20241127T190000
DTSTAMP:20260425T230319
CREATED:20241120T200441Z
LAST-MODIFIED:20241120T200441Z
UID:2227-1732723200-1732734000@mscakovice2.cz
SUMMARY:Vánoční dílničky pro maminky
DESCRIPTION:Ve středu dne 27.11. se ve školce budeme těšit na všechny maminky\, které by si rády zkusily být na chvilku drátenicí či hrnčířkou. Celkem nás budou čekat čtyři dílničky\, více informací u paní učitelek ve třídě. Začínáme v 16 hodin\, ale můžete přijít i později. Těšíme se na Vás!
URL:https://mscakovice2.cz/treboradice/kalendar/vanocni-dilnicky-pro-maminky/
CATEGORIES:kalendar
END:VEVENT
END:VCALENDAR