BEGIN:VCALENDAR
VERSION:2.0
PRODID:-//Třeboradice - ECPv5.11.0//NONSGML v1.0//EN
CALSCALE:GREGORIAN
METHOD:PUBLISH
X-WR-CALNAME:Třeboradice
X-ORIGINAL-URL:https://mscakovice2.cz/treboradice
X-WR-CALDESC:Akce na Třeboradice
BEGIN:VTIMEZONE
TZID:Europe/Prague
BEGIN:DAYLIGHT
TZOFFSETFROM:+0100
TZOFFSETTO:+0200
TZNAME:CEST
DTSTART:20240331T010000
END:DAYLIGHT
BEGIN:STANDARD
TZOFFSETFROM:+0200
TZOFFSETTO:+0100
TZNAME:CET
DTSTART:20241027T010000
END:STANDARD
END:VTIMEZONE
BEGIN:VEVENT
DTSTART;TZID=Europe/Prague:20241211T170000
DTEND;TZID=Europe/Prague:20241211T183000
DTSTAMP:20260426T044916
CREATED:20241120T201419Z
LAST-MODIFIED:20241120T201419Z
UID:2234-1733936400-1733941800@mscakovice2.cz
SUMMARY:Vánoční besídka
DESCRIPTION:Ve středu dne 11.12 od 17 hodin zveme všechny děti\, sourozence\, rodiče i prarodiče k milému vánočnímu setkání. děti Vás potěší svým vystoupením a potom si společně zazpíváme koledy. Těšíme se na setkání.
URL:https://mscakovice2.cz/treboradice/kalendar/vanocni-besidka/
CATEGORIES:kalendar
END:VEVENT
END:VCALENDAR