BEGIN:VCALENDAR
VERSION:2.0
PRODID:-//Třeboradice - ECPv5.11.0//NONSGML v1.0//EN
CALSCALE:GREGORIAN
METHOD:PUBLISH
X-WR-CALNAME:Třeboradice
X-ORIGINAL-URL:https://mscakovice2.cz/treboradice
X-WR-CALDESC:Akce na Třeboradice
BEGIN:VTIMEZONE
TZID:Europe/Prague
BEGIN:DAYLIGHT
TZOFFSETFROM:+0100
TZOFFSETTO:+0200
TZNAME:CEST
DTSTART:20260329T010000
END:DAYLIGHT
BEGIN:STANDARD
TZOFFSETFROM:+0200
TZOFFSETTO:+0100
TZNAME:CET
DTSTART:20261025T010000
END:STANDARD
END:VTIMEZONE
BEGIN:VEVENT
DTSTART;TZID=Europe/Prague:20260520T080000
DTEND;TZID=Europe/Prague:20260520T120000
DTSTAMP:20260425T183206
CREATED:20260130T135132Z
LAST-MODIFIED:20260130T135132Z
UID:2532-1779264000-1779278400@mscakovice2.cz
SUMMARY:Světový den včel
DESCRIPTION:Ve středu dne 20.5. oslavíme Světový den včel a ve školce si užijeme tvořivý workshop se stáčením a ochutnávkou medu.
URL:https://mscakovice2.cz/treboradice/kalendar/svetovy-den-vcel/
CATEGORIES:kalendar
END:VEVENT
END:VCALENDAR