BEGIN:VCALENDAR
VERSION:2.0
PRODID:-//Třeboradice - ECPv5.11.0//NONSGML v1.0//EN
CALSCALE:GREGORIAN
METHOD:PUBLISH
X-WR-CALNAME:Třeboradice
X-ORIGINAL-URL:https://mscakovice2.cz/treboradice
X-WR-CALDESC:Akce na Třeboradice
BEGIN:VTIMEZONE
TZID:Europe/Prague
BEGIN:DAYLIGHT
TZOFFSETFROM:+0100
TZOFFSETTO:+0200
TZNAME:CEST
DTSTART:20260329T010000
END:DAYLIGHT
BEGIN:STANDARD
TZOFFSETFROM:+0200
TZOFFSETTO:+0100
TZNAME:CET
DTSTART:20261025T010000
END:STANDARD
END:VTIMEZONE
BEGIN:VEVENT
DTSTART;TZID=Europe/Prague:20260430T080000
DTEND;TZID=Europe/Prague:20260430T170000
DTSTAMP:20260425T171738
CREATED:20260130T133253Z
LAST-MODIFIED:20260130T133253Z
UID:2528-1777536000-1777568400@mscakovice2.cz
SUMMARY:Slet čarodějnic ve školce
DESCRIPTION:Dne 30.4. mohou děti již od rána chodit do školky v převleku za čarodějnici či kouzelníka. Užijeme si s dětmi dopoledne plné kouzel a dobrodružství. \nOdpoledne Vás srdečně zveme na akci klubu Lípa\, která se koná v sousedství školky na zahradě restaurace Maximum.
URL:https://mscakovice2.cz/treboradice/kalendar/slet-carodejnic-ve-skolce/
CATEGORIES:kalendar
END:VEVENT
END:VCALENDAR