BEGIN:VCALENDAR
VERSION:2.0
PRODID:-//Třeboradice - ECPv5.11.0//NONSGML v1.0//EN
CALSCALE:GREGORIAN
METHOD:PUBLISH
X-WR-CALNAME:Třeboradice
X-ORIGINAL-URL:https://mscakovice2.cz/treboradice
X-WR-CALDESC:Akce na Třeboradice
BEGIN:VTIMEZONE
TZID:Europe/Prague
BEGIN:DAYLIGHT
TZOFFSETFROM:+0100
TZOFFSETTO:+0200
TZNAME:CEST
DTSTART:20260329T010000
END:DAYLIGHT
BEGIN:STANDARD
TZOFFSETFROM:+0200
TZOFFSETTO:+0100
TZNAME:CET
DTSTART:20261025T010000
END:STANDARD
END:VTIMEZONE
BEGIN:VEVENT
DTSTART;TZID=Europe/Prague:20260528T080000
DTEND;TZID=Europe/Prague:20260529T170000
DTSTAMP:20260425T172804
CREATED:20260130T135432Z
LAST-MODIFIED:20260130T135432Z
UID:2534-1779955200-1780074000@mscakovice2.cz
SUMMARY:Přespávání předškolních dětí ve školce
DESCRIPTION:Ve čtvrtek dne 28.5. si předškolní dětí užijí velké dobrodružství. Budou moci strávit ve školce celou noc! Podrobnější informace k akci budou v aplikaci Twigsee.
URL:https://mscakovice2.cz/treboradice/kalendar/prespavani-predskolnich-deti-ve-skolce/
CATEGORIES:kalendar
END:VEVENT
END:VCALENDAR