BEGIN:VCALENDAR
VERSION:2.0
PRODID:-//Třeboradice - ECPv5.11.0//NONSGML v1.0//EN
CALSCALE:GREGORIAN
METHOD:PUBLISH
X-WR-CALNAME:Třeboradice
X-ORIGINAL-URL:https://mscakovice2.cz/treboradice
X-WR-CALDESC:Akce na Třeboradice
BEGIN:VTIMEZONE
TZID:Europe/Prague
BEGIN:DAYLIGHT
TZOFFSETFROM:+0100
TZOFFSETTO:+0200
TZNAME:CEST
DTSTART:20240331T010000
END:DAYLIGHT
BEGIN:STANDARD
TZOFFSETFROM:+0200
TZOFFSETTO:+0100
TZNAME:CET
DTSTART:20241027T010000
END:STANDARD
END:VTIMEZONE
BEGIN:VEVENT
DTSTART;TZID=Europe/Prague:20241128T093000
DTEND;TZID=Europe/Prague:20241128T110000
DTSTAMP:20260426T020924
CREATED:20241120T200131Z
LAST-MODIFIED:20241120T200131Z
UID:2225-1732786200-1732791600@mscakovice2.cz
SUMMARY:Návštěva kamarádů ze ZŠ
DESCRIPTION:Ve čtvrtek dne 28.11. nás navštíví kamarádi ze základní školy a společně s paní učitelkou Lenkou Hladíkovou nám zahrají dvě pohádky Čert a Káča  a O perníkové chaloupce.
URL:https://mscakovice2.cz/treboradice/kalendar/navsteva-kamaradu-ze-zs/
CATEGORIES:kalendar
END:VEVENT
END:VCALENDAR