BEGIN:VCALENDAR
VERSION:2.0
PRODID:-//Třeboradice - ECPv5.11.0//NONSGML v1.0//EN
CALSCALE:GREGORIAN
METHOD:PUBLISH
X-WR-CALNAME:Třeboradice
X-ORIGINAL-URL:https://mscakovice2.cz/treboradice
X-WR-CALDESC:Akce na Třeboradice
BEGIN:VTIMEZONE
TZID:Europe/Prague
BEGIN:DAYLIGHT
TZOFFSETFROM:+0100
TZOFFSETTO:+0200
TZNAME:CEST
DTSTART:20260329T010000
END:DAYLIGHT
BEGIN:STANDARD
TZOFFSETFROM:+0200
TZOFFSETTO:+0100
TZNAME:CET
DTSTART:20261025T010000
END:STANDARD
END:VTIMEZONE
BEGIN:VEVENT
DTSTART;TZID=Europe/Prague:20260422T093000
DTEND;TZID=Europe/Prague:20260422T103000
DTSTAMP:20260425T171616
CREATED:20260130T132847Z
LAST-MODIFIED:20260130T132847Z
UID:2524-1776850200-1776853800@mscakovice2.cz
SUMMARY:Co umí živly
DESCRIPTION:Dne 22.4. je Den země a my ho společně s dětmi oslavíme programem Co umí živly. Naše milá Gábina a Katka přijedou se svými hudebními nástroji a potěší svým vystoupením děti i paní učitelky.
URL:https://mscakovice2.cz/treboradice/kalendar/co-umi-zivly/
CATEGORIES:kalendar
END:VEVENT
END:VCALENDAR